View In:
ArcGIS JavaScript
ArcGIS Online Map Viewer
ArcGIS Earth
ArcMap
View Footprint In:
ArcGIS Online Map Viewer
Service Description: Imagery 2009 MGA
Name: actmapi/imagery2009mga
Description: Imagery 2009 MGA
Single Fused Map Cache: true
Tile Info:
- Height: 256
- Width: 256
- DPI: 96
-
Levels of Detail: 18
- Format: MIXED
- Compression Quality: 75.0
- LERC Error: NaN
- Origin:
X: -5120900.0
Y: 1.99981E7
- Spatial Reference:
28355
(28355)
Extent:
XMin: 678000
YMin: 6071000
XMax: 704000
YMax: 6112000
Spatial Reference:
28355
(28355)
Initial Extent:
XMin: 678000
YMin: 6071000
XMax: 704000
YMax: 6112000
Spatial Reference:
28355
(28355)
Full Extent:
XMin: 678000
YMin: 6071000
XMax: 704000
YMax: 6112000
Spatial Reference:
28355
(28355)
Pixel Size X: 0.1
Pixel Size Y: 0.1
Band Count: 3
Pixel Type: U8
RasterFunction Infos: {"rasterFunctionInfos": [{
"name": "None",
"description": "",
"help": ""
}]}
Mensuration Capabilities: None
Has Histograms: true
Has Colormap: false
Has Multi Dimensions : false
Rendering Rule:
Min Scale: 1000000
Max Scale: 250
Copyright Text:
Service Data Type: esriImageServiceDataTypeRGB
Min Values: 5, 7, 11
Max Values: 255, 255, 255
Mean Values: 140.42707012874877, 139.38042676734386, 125.9152970117014
Standard Deviation Values: 44.20755021240686, 42.236935519662765, 44.57300980859343
Object ID Field: OBJECTID
Fields:
-
OBJECTID
(
type: esriFieldTypeOID
,
alias: OBJECTID
)
-
Shape
(
type: esriFieldTypeGeometry
,
alias: Shape
)
-
Name
(
type: esriFieldTypeString
,
alias: Name
,
length: 200
)
-
MinPS
(
type: esriFieldTypeDouble
,
alias: MinPS
)
-
MaxPS
(
type: esriFieldTypeDouble
,
alias: MaxPS
)
-
LowPS
(
type: esriFieldTypeDouble
,
alias: LowPS
)
-
HighPS
(
type: esriFieldTypeDouble
,
alias: HighPS
)
-
Category
(
type: esriFieldTypeInteger
,
alias: Category
,
Coded Values:
[0: Unknown]
,
[1: Primary]
,
[2: Overview]
, ...5 more...
)
-
Tag
(
type: esriFieldTypeString
,
alias: Tag
,
length: 100
)
-
GroupName
(
type: esriFieldTypeString
,
alias: GroupName
,
length: 100
)
-
ProductName
(
type: esriFieldTypeString
,
alias: ProductName
,
length: 100
)
-
CenterX
(
type: esriFieldTypeDouble
,
alias: CenterX
)
-
CenterY
(
type: esriFieldTypeDouble
,
alias: CenterY
)
-
ZOrder
(
type: esriFieldTypeInteger
,
alias: ZOrder
)
-
Shape_Length
(
type: esriFieldTypeDouble
,
alias: Shape_Length
)
-
Shape_Area
(
type: esriFieldTypeDouble
,
alias: Shape_Area
)
Default Mosaic Method: Northwest
Allowed Mosaic Methods: NorthWest,Center,LockRaster,ByAttribute,Nadir,Viewpoint,Seamline,None
SortField:
SortValue: null
Mosaic Operator: First
Default Compression Quality: 75
Default Resampling Method: Bilinear
Max Record Count: 1000
Max Image Height: 4100
Max Image Width: 15000
Max Download Image Count: 20
Max Mosaic Image Count: 20
Allow Raster Function: true
Allow Compute TiePoints: false
Supports Statistics: true
Supports Advanced Queries: true
Use StandardizedQueries: true
Raster Type Infos:
Name: Image Service
Description: Supports ArcGIS image service
Help:
Name: Map Service
Description: Supports ArcGIS map service
Help:
Name: Raster Dataset
Description: Supports all ArcGIS Raster Datasets
Help:
Has Raster Attribute Table: false
Edit Fields Info: null
Ownership Based AccessControl For Rasters: null
Child Resources:
Info
Histograms
Key Properties
Legend
MultiDimensionalInfo
rasterFunctionInfos
Supported Operations:
Export Image
Query
Identify
Compute Histograms
Compute Statistics Histograms
Get Samples
Compute Class Statistics
Query Boundary