{
 "currentVersion": 10.61,
 "serviceDescription": "actmapi/CountrySouthLakeGeorge",
 "name": "actmapi/CountrySouthLakeGeorge",
 "description": "",
 "extent": {
  "xmin": 592885.4204212237,
  "ymin": 5893220.569583051,
  "xmax": 888492.0081747958,
  "ymax": 6185498.437177904,
  "spatialReference": {
   "wkid": 28355,
   "latestWkid": 28355
  }
 },
 "initialExtent": {
  "xmin": 592885.4204212237,
  "ymin": 5893220.569583051,
  "xmax": 888492.0081747958,
  "ymax": 6185498.437177904,
  "spatialReference": {
   "wkid": 28355,
   "latestWkid": 28355
  }
 },
 "fullExtent": {
  "xmin": 592885.4204212237,
  "ymin": 5893220.569583051,
  "xmax": 888492.0081747958,
  "ymax": 6185498.437177904,
  "spatialReference": {
   "wkid": 28355,
   "latestWkid": 28355
  }
 },
 "pixelSizeX": 81.1882965541258,
 "pixelSizeY": 81.18829655412584,
 "bandCount": 3,
 "pixelType": "U8",
 "minPixelSize": 0,
 "maxPixelSize": 0,
 "copyrightText": "",
 "serviceDataType": "esriImageServiceDataTypeRGB",
 "minValues": [
  0,
  0,
  0
 ],
 "maxValues": [
  255,
  250,
  248
 ],
 "meanValues": [
  133.50280761599512,
  131.27206043956045,
  128.71049565018316
 ],
 "stdvValues": [
  98.3116996550464,
  96.73709967175218,
  94.94515558423763
 ],
 "objectIdField": "",
 "fields": [],
 "capabilities": "Image,Metadata,Mensuration",
 "defaultMosaicMethod": "Center",
 "allowedMosaicMethods": "",
 "sortField": "",
 "sortValue": null,
 "mosaicOperator": "First",
 "defaultCompressionQuality": 75,
 "defaultResamplingMethod": "Bilinear",
 "maxImageHeight": 4100,
 "maxImageWidth": 15000,
 "allowRasterFunction": true,
 "rasterFunctionInfos": [
  {
   "name": "None",
   "description": "",
   "help": ""
  }
 ],
 "rasterTypeInfos": [
  {
   "name": "Raster Dataset",
   "description": "Supports all ArcGIS Raster Datasets",
   "help": ""
  }
 ],
 "mensurationCapabilities": "Basic",
 "hasHistograms": true,
 "hasColormap": false,
 "hasRasterAttributeTable": false,
 "minScale": 0,
 "maxScale": 0,
 "exportTilesAllowed": false,
 "hasMultidimensions": false,
 "supportsStatistics": false,
 "supportsAdvancedQueries": false,
 "editFieldsInfo": null,
 "ownershipBasedAccessControlForRasters": null,
 "allowComputeTiePoints": false,
 "useStandardizedQueries": true,
 "advancedQueryCapabilities": {
  "useStandardizedQueries": true,
  "supportsStatistics": false,
  "supportsOrderBy": false,
  "supportsDistinct": false,
  "supportsPagination": false
 },
 "spatialReference": {
  "wkid": 28355,
  "latestWkid": 28355
 }
}
