View In:
ArcGIS JavaScript
ArcGIS Online Map Viewer
ArcGIS Earth
ArcMap
View Footprint In:
ArcGIS Online Map Viewer
Service Description: actmapi/CountrySouthLakeGeorge
Name: actmapi/CountrySouthLakeGeorge
Description:
Single Fused Map Cache: false
Extent:
XMin: 592885.4204212237
YMin: 5893220.569583051
XMax: 888492.0081747958
YMax: 6185498.437177904
Spatial Reference:
28355
(28355)
Initial Extent:
XMin: 592885.4204212237
YMin: 5893220.569583051
XMax: 888492.0081747958
YMax: 6185498.437177904
Spatial Reference:
28355
(28355)
Full Extent:
XMin: 592885.4204212237
YMin: 5893220.569583051
XMax: 888492.0081747958
YMax: 6185498.437177904
Spatial Reference:
28355
(28355)
Pixel Size X: 81.1882965541258
Pixel Size Y: 81.18829655412584
Band Count: 3
Pixel Type: U8
RasterFunction Infos: {"rasterFunctionInfos": [{
"name": "None",
"description": "",
"help": ""
}]}
Mensuration Capabilities: Basic
Has Histograms: true
Has Colormap: false
Has Multi Dimensions : false
Rendering Rule:
Min Scale: 0
Max Scale: 0
Copyright Text:
Service Data Type: esriImageServiceDataTypeRGB
Min Values: 0, 0, 0
Max Values: 255, 250, 248
Mean Values: 133.50280761599512, 131.27206043956045, 128.71049565018316
Standard Deviation Values: 98.3116996550464, 96.73709967175218, 94.94515558423763
Object ID Field:
Fields:
None
Default Mosaic Method: Center
Allowed Mosaic Methods:
SortField:
SortValue: null
Mosaic Operator: First
Default Compression Quality: 75
Default Resampling Method: Bilinear
Max Record Count: null
Max Image Height: 4100
Max Image Width: 15000
Max Download Image Count: null
Max Mosaic Image Count: null
Allow Raster Function: true
Allow Compute TiePoints: false
Supports Statistics: false
Supports Advanced Queries: false
Use StandardizedQueries: true
Raster Type Infos:
Name: Raster Dataset
Description: Supports all ArcGIS Raster Datasets
Help:
Has Raster Attribute Table: false
Edit Fields Info: null
Ownership Based AccessControl For Rasters: null
Child Resources:
Info
Histograms
Key Properties
Legend
MultiDimensionalInfo
rasterFunctionInfos
Supported Operations:
Export Image
Identify
Measure
Compute Histograms
Compute Statistics Histograms
Get Samples
Compute Class Statistics
Query Boundary