View In:
ArcGIS JavaScript
ArcGIS Online Map Viewer
ArcGIS Earth
ArcMap
View Footprint In:
ArcGIS Online Map Viewer
Service Description: actmapi/CanberraCityEnvirons
Name: actmapi/CanberraCityEnvirons
Description:
Single Fused Map Cache: false
Extent:
XMin: 686042.4221027716
YMin: 6084571.88994556
XMax: 700496.9006687716
YMax: 6102754.647527561
Spatial Reference:
28355
(28355)
Initial Extent:
XMin: 686042.4221027716
YMin: 6084571.88994556
XMax: 700496.9006687716
YMax: 6102754.647527561
Spatial Reference:
28355
(28355)
Full Extent:
XMin: 686042.4221027716
YMin: 6084571.88994556
XMax: 700496.9006687716
YMax: 6102754.647527561
Spatial Reference:
28355
(28355)
Pixel Size X: 1.6438620000000006
Pixel Size Y: 1.6438620000000412
Band Count: 3
Pixel Type: U16
RasterFunction Infos: {"rasterFunctionInfos": [{
"name": "None",
"description": "",
"help": ""
}]}
Mensuration Capabilities: Basic
Has Histograms: true
Has Colormap: false
Has Multi Dimensions : false
Rendering Rule:
Min Scale: 0
Max Scale: 0
Copyright Text:
Service Data Type: esriImageServiceDataTypeGeneric
Min Values: 48, 35, 41
Max Values: 248, 239, 233
Mean Values: 224.52209034912008, 199.4347058330509, 170.05283831455293
Standard Deviation Values: 29.797895314452585, 27.236172833971516, 24.551579857777366
Object ID Field:
Fields:
None
Default Mosaic Method: Center
Allowed Mosaic Methods:
SortField:
SortValue: null
Mosaic Operator: First
Default Compression Quality: 75
Default Resampling Method: Bilinear
Max Record Count: null
Max Image Height: 4100
Max Image Width: 15000
Max Download Image Count: null
Max Mosaic Image Count: null
Allow Raster Function: true
Allow Compute TiePoints: false
Supports Statistics: false
Supports Advanced Queries: false
Use StandardizedQueries: true
Raster Type Infos:
Name: Raster Dataset
Description: Supports all ArcGIS Raster Datasets
Help:
Has Raster Attribute Table: false
Edit Fields Info: null
Ownership Based AccessControl For Rasters: null
Child Resources:
Info
Histograms
Key Properties
Legend
MultiDimensionalInfo
rasterFunctionInfos
Supported Operations:
Export Image
Identify
Measure
Compute Histograms
Compute Statistics Histograms
Get Samples
Compute Class Statistics
Query Boundary